BEGIN:VCALENDAR
VERSION:2.0
PRODID:-//hacksw/handcal//NONSGML v1.0//EN
BEGIN:VEVENT
DTSTAMP:20260215T020000Z
DTSTART:20260215T020000Z
DTEND:20260215T040000Z

SUMMARY:Los Tigres del Norte
DESCRIPTION:¡Los Tigres del Norte te invitan a jugar La Lotería en su gira 2026! Con un legado inigualable y décadas de éxitos, este show te llevará a un viaje musical inolvidable a través de sus más grandes clásicos y lo más nuevo de su repertorio. ¡No te quedes fuera y consigue tus boletos ahora!Los Tigres del Norte invite you to play La Lotería on their 2026 tour! With an unmatched legacy and decades of hits, this show will take you on an unforgettable musical journey through their greatest classics and newest songs. Don’t miss out—get your tickets now!
END:VEVENT
END:VCALENDAR