BEGIN:VCALENDAR
VERSION:2.0
PRODID:-//hacksw/handcal//NONSGML v1.0//EN
BEGIN:VEVENT
DTSTAMP:20211119T010000Z
DTSTART:20211119T010000Z
DTEND:20211119T040000Z

SUMMARY:Luke Combs 
DESCRIPTION:The date originally scheduled on September 24, 2020, has been updated to November 18, 2021. For additional information about this rescheduled event, click here 
END:VEVENT
END:VCALENDAR