BEGIN:VCALENDAR
VERSION:2.0
PRODID:-//hacksw/handcal//NONSGML v1.0//EN
BEGIN:VEVENT
DTSTAMP:20190908T010000Z
DTSTART:20190908T010000Z
DTEND:20190908T040000Z

SUMMARY:Maná
DESCRIPTION:Maná is bringing their Raynado El Sol Tour to American Airlines Center on September 7, 2019
END:VEVENT
END:VCALENDAR