BEGIN:VCALENDAR
VERSION:2.0
PRODID:-//hacksw/handcal//NONSGML v1.0//EN
BEGIN:VEVENT
DTSTAMP:20230910T010000Z
DTSTART:20230910T010000Z
DTEND:20230910T030000Z

SUMMARY:Maná 
DESCRIPTION:
END:VEVENT
END:VCALENDAR