BEGIN:VCALENDAR
VERSION:2.0
PRODID:-//hacksw/handcal//NONSGML v1.0//EN
BEGIN:VEVENT
DTSTAMP:20251103T023000Z
DTSTART:20251103T023000Z
DTEND:20251103T043000Z

SUMMARY:MANÁ 
DESCRIPTION:VIVIR SIN AIRE TOUR
END:VEVENT
END:VCALENDAR