BEGIN:VCALENDAR
VERSION:2.0
PRODID:-//hacksw/handcal//NONSGML v1.0//EN
BEGIN:VEVENT
DTSTAMP:20190215T020000Z
DTSTART:20190215T020000Z
DTEND:20190215T040000Z

SUMMARY:Marc Anthony
DESCRIPTION:Marc Anthony is bringing his Legacy Tour to American Airlines Center on February 14, 2019.
END:VEVENT
END:VCALENDAR