BEGIN:VCALENDAR
VERSION:2.0
PRODID:-//hacksw/handcal//NONSGML v1.0//EN
BEGIN:VEVENT
DTSTAMP:20171001T010000Z
DTSTART:20171001T010000Z
DTEND:20171001T030000Z

SUMMARY:Marco Antonio Solis
DESCRIPTION:
END:VEVENT
END:VCALENDAR