BEGIN:VCALENDAR
VERSION:2.0
PRODID:-//hacksw/handcal//NONSGML v1.0//EN
BEGIN:VEVENT
DTSTAMP:20241122T013000Z
DTSTART:20241122T013000Z
DTEND:20241122T033000Z

SUMMARY:Mariah Carey
DESCRIPTION:Merry Christmas One And All! with special guest DJ Suss One
END:VEVENT
END:VCALENDAR