BEGIN:VCALENDAR
VERSION:2.0
PRODID:-//hacksw/handcal//NONSGML v1.0//EN
BEGIN:VEVENT
DTSTAMP:20251108T020000Z
DTSTART:20251108T020000Z
DTEND:20251108T040000Z

SUMMARY:Maroon 5
DESCRIPTION:LOVE IS LIKE TourWith special guest Claire Rosinkranz
END:VEVENT
END:VCALENDAR