BEGIN:VCALENDAR
VERSION:2.0
PRODID:-//hacksw/handcal//NONSGML v1.0//EN
BEGIN:VEVENT
DTSTAMP:20241008T000000Z
DTSTART:20241008T000000Z
DTEND:20241008T020000Z

SUMMARY:Mavericks vs. Grizzlies - Preseason
DESCRIPTION:
END:VEVENT
END:VCALENDAR