BEGIN:VCALENDAR
VERSION:2.0
PRODID:-//hacksw/handcal//NONSGML v1.0//EN
BEGIN:VEVENT
DTSTAMP:20260125T013000Z
DTSTART:20260125T013000Z
DTEND:20260125T033000Z

SUMMARY:Mavericks vs. Lakers
DESCRIPTION:
END:VEVENT
END:VCALENDAR