BEGIN:VCALENDAR
VERSION:2.0
PRODID:-//hacksw/handcal//NONSGML v1.0//EN
BEGIN:VEVENT
DTSTAMP:20220209T013000Z
DTSTART:20220209T013000Z
DTEND:20220209T043000Z

SUMMARY:Mavericks vs. Pistons
DESCRIPTION:For the latest fan safety guidelines at AAC: FULL FAN SAFETY GUIDELINES HERE 
END:VEVENT
END:VCALENDAR