BEGIN:VCALENDAR
VERSION:2.0
PRODID:-//hacksw/handcal//NONSGML v1.0//EN
BEGIN:VEVENT
DTSTAMP:20150822T160000Z
DTSTART:20150822T160000Z
DTEND:20150822T173000Z

SUMMARY:MegaFest 
DESCRIPTION:MegaFest is a family-friendly festival bringing together the BEST of T.D. Jakes Ministries events! MegaFest includes Woman Thou Art Loosed, ManPower, Mega-Kidz and the Mega-Youth Experience. One place — 5 days. Inspiration, Music, Entertainment and more. MegaFest..It’s more than a Festival..It’s an Experience!Click here to view Special Events Schedule for TRE and DART ServiceWTAL OPENING SESSIONTime: 20 August 2015, 7:00 pm - 10:30 pmSpeaker: Bishop TD Jakes MORNING GLORY WTALTime: 21 August 2015, 8:30 am - 10:00 amSpeaker: Bishop Nicholas Duncan Williams MID MORNING WTALTime: 21 August 2015, 10:00 am - 11:30 amSpeaker: Pastor Sheryl Brady WTAL GIRL TALKTime: 21 August 2015, 2:30 pm - 4:00 pmSpeaker: Serita Jakes, Sarah Jakes WTAL EVENING SESSIONTime: 21 August 2015, 7:00 pm - 10:30 pmSpeaker: Joyce MeyersArtists: Hillsong MORNING GLORY WTALTime: 22 August 2015, 9:00 am - 10:30 amSpeaker: Christine Caine WTAL MID MORNING SESSIONTime: 22 August 2015, 11:00 am - 12:30 pmSpeaker: Evangelist Joyce Rodgers HOUR OF POWERTime: 23 August 2015, 8:00 am - 9:00 amSpeakers: Pastor Duncan Williams SUNDAY SERVICETime: 23 August 2015, 9:00 am - 11:00 amFor a full schedule of events, please click here. 
END:VEVENT
END:VCALENDAR