BEGIN:VCALENDAR
VERSION:2.0
PRODID:-//hacksw/handcal//NONSGML v1.0//EN
BEGIN:VEVENT
DTSTAMP:20151207T013000Z
DTSTART:20151207T013000Z
DTEND:20151207T033000Z

SUMMARY:Michael W. Smith and Amy Grant
DESCRIPTION:Multi-platinum, Grammy-winning Christian music superstars Michael W. Smith and Amy Grant are partnering together for the holiday event of the year performing together at the American Airlines Center on December 6th, 2015 with the Dallas POPS.The show will feature everyone&#39;s Christmas favorites that will undoubtedly be the most celebrated concert highlight of the holiday season! Both Tennessee residents, the two have been friends since the early 80&#39;s when Michael W. Smith was the musical director for Grant. As Smith&#39;s career picked up steam they began performing together and have often teamed up ever since. Their spirit of friendship resonates through every rendition of your favorite Christmas songs. With thirteen Christmas albums between the artists, fans are sure to experience the magic of the season in a way they never have before. Michael W. Smith:Renowned Contemporary Christian music artist, Michael W. Smith, is a Multi-platinum selling artist and three time Grammy winner and producer. Born in West Virginia, Smith is one of the most popular gospel artists in the country, boasting 40 Dove awards. three Christmas albums pepper his impressive discography along with his single "Place in This World," which peaked at #6 on the Billboard Top 100. Aside from his music career Smith is an avid youth advocate for Compassion International, which provides long-term development for more than 1.35 million children living in poverty all over the world. Amy Grant:Known as "The Queen of Christian Pop," this Multi-Platinum and 6 time Grammy winning artist has sold more than 30 million units since her career began in 1977. With six number 1 hits, including 80&#39;s favorite "Baby, Baby," and seven singles within the top 10, Grant has also been awarded several humanitarian awards. Including The Amy Grant Rose, an award created in her name for her work with the Target House and St. Jude Children&#39;s Research Hospital. Grant has created ten Christmas albums, two of which went platinum. 
END:VEVENT
END:VCALENDAR