BEGIN:VCALENDAR
VERSION:2.0
PRODID:-//hacksw/handcal//NONSGML v1.0//EN
BEGIN:VEVENT
DTSTAMP:20220917T010000Z
DTSTART:20220917T010000Z
DTEND:20220917T040000Z

SUMMARY:Michael Buble
DESCRIPTION:Michael Buble is bringing his Higher Tour 2022 to American Airlines Center on Fri. Sept. 16, 2022! For the latest fan safety guidelines at AAC: FULL FAN SAFETY GUIDELINES HERE 
END:VEVENT
END:VCALENDAR