BEGIN:VCALENDAR
VERSION:2.0
PRODID:-//hacksw/handcal//NONSGML v1.0//EN
BEGIN:VEVENT
DTSTAMP:20150313T003000Z
DTSTART:20150313T003000Z
DTEND:20150313T023000Z

SUMMARY:Miranda Lambert
DESCRIPTION:Miranda Lambert with Justin Moore, Sunny Sweeney and Jukebox Mafia at American Airlines Center on March 12.Lambert will be touring in 2015 to support her fifth studio album, Platinum. It was released on June 3, 2014 via RCA Nashville. It reached No. 1 on the U.S. Billboard 200 Albums chart and No. 1 on the U.S. Billboard Top Country Albums chart. It was her first album to hit the top spot on the Billboard 200 Albums chart. That album features her singles "Automatic" and "Somethin&#39; Bad", which is a duet with Carrie Underwood.                                              
END:VEVENT
END:VCALENDAR