BEGIN:VCALENDAR
VERSION:2.0
PRODID:-//hacksw/handcal//NONSGML v1.0//EN
BEGIN:VEVENT
DTSTAMP:20251030T234000Z
DTSTART:20251030T234000Z
DTEND:20251031T034000Z

SUMMARY:NBA YoungBoy 
DESCRIPTION:MASA TOURwith Offset, NoCap, DeeBaby, Mellow Rackz,  and Baby Mel
END:VEVENT
END:VCALENDAR