BEGIN:VCALENDAR
VERSION:2.0
PRODID:-//hacksw/handcal//NONSGML v1.0//EN
BEGIN:VEVENT
DTSTAMP:20250903T003000Z
DTSTART:20250903T003000Z
DTEND:20250903T023000Z

SUMMARY:NBA YoungBoy
DESCRIPTION:MASA TOURwith Offset, Toosii, DeeBaby, Mellow Rackz, Baby Mel, Lil Dump, and k3
END:VEVENT
END:VCALENDAR