BEGIN:VCALENDAR
VERSION:2.0
PRODID:-//hacksw/handcal//NONSGML v1.0//EN
BEGIN:VEVENT
DTSTAMP:20220524T003000Z
DTSTART:20220524T003000Z
DTEND:20220524T043000Z

SUMMARY:NEW DATE: NKOTB - The Mixtape Tour 2022
DESCRIPTION:New Kids On The Block is bringing their Mixtape Tour 2022 with legendary guests Salt-N-Pepa, Rick Astley, and En Vogue to American Airlines Center on May 23, 2022!  All tickets for the previously scheduled May 22 show will be honored. Refunds are available upon request at point of purchase until Midnight May 21st, 2022.For the latest fan safety guidelines at AAC: FULL FAN SAFETY GUIDELINES HERE 
END:VEVENT
END:VCALENDAR