BEGIN:VCALENDAR
VERSION:2.0
PRODID:-//hacksw/handcal//NONSGML v1.0//EN
BEGIN:VEVENT
DTSTAMP:20170620T203000Z
DTSTART:20170620T203000Z
DTEND:20170621T003000Z

SUMMARY:Paws In The Plaza
DESCRIPTION:
END:VEVENT
END:VCALENDAR