BEGIN:VCALENDAR
VERSION:2.0
PRODID:-//hacksw/handcal//NONSGML v1.0//EN
BEGIN:VEVENT
DTSTAMP:20240630T010000Z
DTSTART:20240630T010000Z
DTEND:20240630T033000Z

SUMMARY:Pepe Aguilar 
DESCRIPTION:Jaripeo Hasta los HuesosLa nueva gira de Pepe Aguilar y Familia: "Jaripeo Hasta los Huesos" incluye Toros y jinetes, mariachi, tradición y charrería con el tema de “El Día De Muertos” 
END:VEVENT
END:VCALENDAR