BEGIN:VCALENDAR
VERSION:2.0
PRODID:-//hacksw/handcal//NONSGML v1.0//EN
BEGIN:VEVENT
DTSTAMP:20221024T010000Z
DTSTART:20221024T010000Z
DTEND:20221024T040000Z

SUMMARY:Pepe Aguilar - Jaripeo Sin Fronteras
DESCRIPTION:Pepe Aguilar is bringing Jaripeo Sin Fronteras back to American Airlines Center on Oct. 23, 2022For the latest fan safety guidelines at AAC: FULL FAN SAFETY GUIDELINES HERE 
END:VEVENT
END:VCALENDAR