BEGIN:VCALENDAR
VERSION:2.0
PRODID:-//hacksw/handcal//NONSGML v1.0//EN
BEGIN:VEVENT
DTSTAMP:20230929T003000Z
DTSTART:20230929T003000Z
DTEND:20230929T023000Z

SUMMARY:RESCHEDULED: Playboi Carti
DESCRIPTION:​​​​​The upcoming PC show on September 28 is rescheduled to January 17. Hold on to your tickets as they will be valid for the new date.
END:VEVENT
END:VCALENDAR