BEGIN:VCALENDAR
VERSION:2.0
PRODID:-//hacksw/handcal//NONSGML v1.0//EN
BEGIN:VEVENT
DTSTAMP:20260829T160000Z
DTSTART:20260829T160000Z
DTEND:20260829T180000Z

SUMMARY:Ringling Bros. and Barnum & Bailey presents The Greatest Show On Earth
DESCRIPTION: 
END:VEVENT
END:VCALENDAR