BEGIN:VCALENDAR
VERSION:2.0
PRODID:-//hacksw/handcal//NONSGML v1.0//EN
BEGIN:VEVENT
DTSTAMP:20241103T000000Z
DTSTART:20241103T000000Z
DTEND:20241103T020000Z

SUMMARY:Rod Wave 
DESCRIPTION:Last Lap Tour With special guests Moneybagg Yo, Toosii, Lil Poppa, Dess Dior, and Eelmatic
END:VEVENT
END:VCALENDAR