BEGIN:VCALENDAR
VERSION:2.0
PRODID:-//hacksw/handcal//NONSGML v1.0//EN
BEGIN:VEVENT
DTSTAMP:20221009T010000Z
DTSTART:20221009T010000Z
DTEND:20221009T050000Z

SUMMARY:Roger Waters
DESCRIPTION:The Roger Waters show originally scheduled for October 3, 2020 will now take place on Saturday, October 8, 2022. All originally purchased tickets will be valid for the rescheduled date. For the latest fan safety guidelines at AAC: FULL FAN SAFETY GUIDELINES HERE
END:VEVENT
END:VCALENDAR