BEGIN:VCALENDAR
VERSION:2.0
PRODID:-//hacksw/handcal//NONSGML v1.0//EN
BEGIN:VEVENT
DTSTAMP:20260510T010000Z
DTSTART:20260510T010000Z
DTEND:20260510T030000Z

SUMMARY:Romeo Santos • Prince Royce
DESCRIPTION:MEJOR TARDE QUE NUNCA TOUR 2026
END:VEVENT
END:VCALENDAR