BEGIN:VCALENDAR
VERSION:2.0
PRODID:-//hacksw/handcal//NONSGML v1.0//EN
BEGIN:VEVENT
DTSTAMP:20230817T003000Z
DTSTART:20230817T003000Z
DTEND:20230817T040000Z

SUMMARY:Santa Fe Klan
DESCRIPTION:Santa Fe Klan has been taking the world by storm over the last two years. With critical acclaim including a 2022 win at Premios Juventud for “Nuevo artista en el género Regional Mexicano,” Santa Fe Klan is one of the most exciting Mexican artists working today. The Guanajuato native was also recently featured on the cover of GQ Mexico, where he shared his story. 
END:VEVENT
END:VCALENDAR