BEGIN:VCALENDAR
VERSION:2.0
PRODID:-//hacksw/handcal//NONSGML v1.0//EN
BEGIN:VEVENT
DTSTAMP:20240811T000000Z
DTSTART:20240811T000000Z
DTEND:20240811T020000Z

SUMMARY:Sebastian Maniscalco
DESCRIPTION:It Ain&#39;t Right Tour with special guest Pat McGann
END:VEVENT
END:VCALENDAR