BEGIN:VCALENDAR
VERSION:2.0
PRODID:-//hacksw/handcal//NONSGML v1.0//EN
BEGIN:VEVENT
DTSTAMP:20260624T003000Z
DTSTART:20260624T003000Z
DTEND:20260624T023000Z

SUMMARY:SHAKIRA
DESCRIPTION:Las Mujeres Ya No Lloran
END:VEVENT
END:VCALENDAR