BEGIN:VCALENDAR
VERSION:2.0
PRODID:-//hacksw/handcal//NONSGML v1.0//EN
BEGIN:VEVENT
DTSTAMP:20250525T190000Z
DTSTART:20250525T190000Z
DTEND:20250525T220000Z

SUMMARY:Stars v. Oilers: Watch Party
DESCRIPTION:Third Round Gm 3:  Stars at Oilers Rd 3 Gm 3
END:VEVENT
END:VCALENDAR