BEGIN:VCALENDAR
VERSION:2.0
PRODID:-//hacksw/handcal//NONSGML v1.0//EN
BEGIN:VEVENT
DTSTAMP:20250601T000000Z
DTSTART:20250601T000000Z
DTEND:20250601T030000Z

SUMMARY:Stars v. Oilers: Watch Party*
DESCRIPTION:Third Round Game 6: Stars at Oilers Watch PartyAll Dallas Stars Western Conference Final watch parties will be held inside American Airlines Center! With a $10 donation to the Dallas Stars Foundation fans can cheer on the lads in Victory Green in a fun, home ice arena experience. Enjoy special appearances from some of the best Dallas Stars personalities, like Victor E. Green, Jersey, Celena, Jeff K., DJ Shippy and performances from your Dallas Stars Ice Girls. Help us cheer on your favorite Texas hockey team at an official Dallas Stars watch party!
END:VEVENT
END:VCALENDAR