BEGIN:VCALENDAR
VERSION:2.0
PRODID:-//hacksw/handcal//NONSGML v1.0//EN
BEGIN:VEVENT
DTSTAMP:20220430T003000Z
DTSTART:20220430T003000Z
DTEND:20220430T033000Z

SUMMARY:Stars vs. Ducks
DESCRIPTION:FULL FAN SAFETY GUIDELINES HERE 
END:VEVENT
END:VCALENDAR