BEGIN:VCALENDAR
VERSION:2.0
PRODID:-//hacksw/handcal//NONSGML v1.0//EN
BEGIN:VEVENT
DTSTAMP:20220514T013000Z
DTSTART:20220514T013000Z
DTEND:20220514T043000Z

SUMMARY:2022 Stanley Cup Playoffs Rd 1, Game 6 - Stars vs. Flames
DESCRIPTION:The Dallas Stars will host game 6 of the first round of the Stanley Cup Playoffs vs. the Calgary Flames at American Airlines Center on Friday, May 13th at 8:30pm. For the latest fan safety guidelines at AAC: FULL FAN SAFETY GUIDELINES HERE 
END:VEVENT
END:VCALENDAR