BEGIN:VCALENDAR
VERSION:2.0
PRODID:-//hacksw/handcal//NONSGML v1.0//EN
BEGIN:VEVENT
DTSTAMP:20231209T210000Z
DTSTART:20231209T210000Z
DTEND:20231209T230000Z

SUMMARY:Stars vs. Golden Knights
DESCRIPTION:
END:VEVENT
END:VCALENDAR