BEGIN:VCALENDAR
VERSION:2.0
PRODID:-//hacksw/handcal//NONSGML v1.0//EN
BEGIN:VEVENT
DTSTAMP:20250321T000000Z
DTSTART:20250321T000000Z
DTEND:20250321T020000Z

SUMMARY:Stars vs. Lightning
DESCRIPTION:
END:VEVENT
END:VCALENDAR