BEGIN:VCALENDAR
VERSION:2.0
PRODID:-//hacksw/handcal//NONSGML v1.0//EN
BEGIN:VEVENT
DTSTAMP:20160623T001500Z
DTSTART:20160623T001500Z
DTEND:20160623T021500Z

SUMMARY:Steely Dan
DESCRIPTION:Rock ‘n’ Roll Hall of Famers Donald Fagen and Walter Becker have announced Steely Dan will be backto satisfy Dan fans nationwide with a new tour this Summer with special guest, Steve Winwood. Steely Dan will be performing at the American Airlines Center in Dallas, on Wednesday, June 22. Steely Dan will entrance audiences with a set of diverse selections from The Dan&#39;s extraordinary four-decade catalog, rich with infectious tunes, bodaciousharmonies, irresistible grooves, blazing solo work, rich ensembles and sleek, subversive lyrics.Singer/songwriter/multi-instrumentalist Steve Winwood has one of the most remarkable voices inrock ‘n’ roll and fans will be captivated by his set of favorites spanning his 50-year career -- featuring songs from the Spencer Davis Group, Traffic, Blind Faith along with solo hits, including “Higher Love”and many more. 
END:VEVENT
END:VCALENDAR