BEGIN:VCALENDAR
VERSION:2.0
PRODID:-//hacksw/handcal//NONSGML v1.0//EN
BEGIN:VEVENT
DTSTAMP:20250727T000000Z
DTSTART:20250727T000000Z
DTEND:20250727T020000Z

SUMMARY:Phil Wickham & Brandon Lake Summer Worship Nights Tour
DESCRIPTION:Join Phil Wickham and Brandon Lake for the third year of the Summer Worship Nights Tour!Live with special guest Josiah Queen, they’ll be hitting 11 cities this July and August. These events are powerful nights of authentic worship and prayer that will have lasting impact not just on the venues they are coming to, but the cities and beyond - we hope you can join us!   
END:VEVENT
END:VCALENDAR