BEGIN:VCALENDAR
VERSION:2.0
PRODID:-//hacksw/handcal//NONSGML v1.0//EN
BEGIN:VEVENT
DTSTAMP:20230311T020000Z
DTSTART:20230311T020000Z
DTEND:20230311T040000Z

SUMMARY:SZA
DESCRIPTION:SZA with special guest Omar ApolloSOS TourAmerican Airlines CenterFriday, March 10, 2023   Check out the latest fan safety guidelines at AAC: FULL FAN SAFETY GUIDELINES HERE
END:VEVENT
END:VCALENDAR