BEGIN:VCALENDAR
VERSION:2.0
PRODID:-//hacksw/handcal//NONSGML v1.0//EN
BEGIN:VEVENT
DTSTAMP:20220219T020000Z
DTSTART:20220219T020000Z
DTEND:20220219T060000Z

SUMMARY:Bad Bunny 
DESCRIPTION:Bad Bunny is bringing his El Último Tour del Mundo 2022 to American Airlines Center on Friday, February 18, 2022!  For the latest fan safety guidelines at AAC: FULL FAN SAFETY GUIDELINES HERE
END:VEVENT
END:VCALENDAR