BEGIN:VCALENDAR
VERSION:2.0
PRODID:-//hacksw/handcal//NONSGML v1.0//EN
BEGIN:VEVENT
DTSTAMP:20220201T013000Z
DTSTART:20220201T013000Z
DTEND:20220201T043000Z

SUMMARY:TOOL
DESCRIPTION:Tool is bringing their 2022 tour with special guest Blonde Redhead to American Airlines Center on January 31, 2022! This event will not require proof of vaccination nor proof of negative test for entry. Face masks are required for guests ages 2+.For the latest fan safety guidelines at AAC: FULL FAN SAFETY GUIDELINES HERE  
END:VEVENT
END:VCALENDAR