BEGIN:VCALENDAR
VERSION:2.0
PRODID:-//hacksw/handcal//NONSGML v1.0//EN
BEGIN:VEVENT
DTSTAMP:20211106T010000Z
DTSTART:20211106T010000Z
DTEND:20211106T040000Z

SUMMARY:Trevor Noah
DESCRIPTION:Trevor Noah is bringing his Back to Abnormal World Tour to American Airlines Center on Friday, November 5, 2021! Video or audio recording of the show is strictly prohibited. For the latest fan safety guidelines at AAC: FULL FAN SAFETY GUIDELINES HERE 
END:VEVENT
END:VCALENDAR