BEGIN:VCALENDAR
VERSION:2.0
PRODID:-//hacksw/handcal//NONSGML v1.0//EN
BEGIN:VEVENT
DTSTAMP:20220914T010000Z
DTSTART:20220914T010000Z
DTEND:20220914T050000Z

SUMMARY:Twenty One Pilots – THE ICY TOUR 
DESCRIPTION:TwentyOnePilots are bringing THE ICY TOUR to American Airlines Center on September 13, 2022 ψ   For the latest fan safety guidelines at AAC: FULL FAN SAFETY GUIDELINES HERE
END:VEVENT
END:VCALENDAR