BEGIN:VCALENDAR
VERSION:2.0
PRODID:-//hacksw/handcal//NONSGML v1.0//EN
BEGIN:VEVENT
DTSTAMP:20260201T020000Z
DTSTART:20260201T020000Z
DTEND:20260201T040000Z

SUMMARY:TWICE
DESCRIPTION:<THIS IS FOR> WORLD TOURTWICE, is back in North America, bringing their hits and, for the first time, a 360-degree stage experience for ONCE (their fandom). The 9 member K-Pop group has had a busy summer, releasing their fourth full-length album, This Is For, this past July, kicking off their world tour through Asia and Australia, and breaking records with their headlining set at Lollapalooza Chicago.Early merch sales for TWICE will begin Friday, January 30 from 1pm-8pm 
END:VEVENT
END:VCALENDAR