BEGIN:VCALENDAR
VERSION:2.0
PRODID:-//hacksw/handcal//NONSGML v1.0//EN
BEGIN:VEVENT
DTSTAMP:20220217T013000Z
DTSTART:20220217T013000Z
DTEND:20220217T053000Z

SUMMARY:Tyler, The Creator
DESCRIPTION:TYLER, THE CREATOR ANNOUNCES NORTH AMERICAN TOUR ACCOMPANIED BY KALI UCHIS, VINCE STAPLES & TEEZO TOUCHDOWN COMING TO AMERICAN AIRLINES CENTER ON FEBRUARY 16, 2022! GENERAL ADMISSION LINE WRISTBANDS WILL BE ISSUED AT AAC SOUTH DOORS STARTING AT 8AM ON SHOW DAY.General Admission Ticket ProceduresOn show day, Wednesday, February 16, fans may start lining up at 8AM on AAC property in PNC Plaza.  Prior to this time, No camping is allowed.  AAC will have security patrolling our property to make sure no one is camping. At 8AM, we will have a check in station set up outside of the South Doors.  Here is the process:Scan event ticket to make sure it is validIssue numbered wristbandChutes will be set up in PNC Plaza for guests to line up in numerical order. The wristband station will close at 5:00pm.If you do not receive a wristband prior to 5:00pm, you will get one once you enter at the South doors. Doors open at 6:00pm.One wristband per valid event ticket per person.For the latest fan safety guidelines at AAC: FULL FAN SAFETY GUIDELINES HERE 
END:VEVENT
END:VCALENDAR