BEGIN:VCALENDAR
VERSION:2.0
PRODID:-//hacksw/handcal//NONSGML v1.0//EN
BEGIN:VEVENT
DTSTAMP:20171113T000000Z
DTSTART:20171113T000000Z
DTEND:20171113T030000Z

SUMMARY:Univision Presents: Latino Mix Live!
DESCRIPTION:Latino Mix Live is bringing Daddy Yankee, Ozuna, Bad Bunny, J Balvin, Play N&#39; Skills, Becky G, Jowell and Randy, and Plan B to American Airlines Center on Sunday, Novermber 12, 2017.
END:VEVENT
END:VCALENDAR