BEGIN:VCALENDAR
VERSION:2.0
PRODID:-//hacksw/handcal//NONSGML v1.0//EN
BEGIN:VEVENT
DTSTAMP:20260214T003000Z
DTSTART:20260214T003000Z
DTEND:20260214T023000Z

SUMMARY:WWE Friday Night SmackDown
DESCRIPTION:WWE FRIDAY NIGHT SMACKDOWN RETURNS TO DALLAS FOR THE FIRST TIME IN 2026! LIVE AND BROADCAST TO THE WORLD FROM AMERICAN AIRLINES CENTER! SEE ALL YOUR FAVORITE SUPERSTARS INCLUDING THE AMERICAN NIGHTMARE CODY RHODESRANDY ORTONCHARLOTTE FLAIRJACOB FATUSOLO SIKOAJADE CARGILTIFFANY STRATONTHE STREET PROFITS …AND MANY MORE! Great seats are available at www.ticketmaster.com.
END:VEVENT
END:VCALENDAR