BEGIN:VCALENDAR
VERSION:2.0
PRODID:-//hacksw/handcal//NONSGML v1.0//EN
BEGIN:VEVENT
DTSTAMP:20231023T233000Z
DTSTART:20231023T233000Z
DTEND:20231024T013000Z

SUMMARY:WWE: MONDAY NIGHT RAW
DESCRIPTION: WWE MONDAY NIGHT RAW RETURNS TO DALLAS FOR THE FINAL TIME IN 2023 LIVE AND BROADCAST TO THE WORLD FROM AMERICAN AIRLINES CENTER LOGAN PAUL RETURNS TO MONDAY NIGHT RAW! SAMI ZAYN vs. DREW MCINTYRE NXT WOMEN’S CHAMPIONSHIPBECKY LYNCH vs. INDI HARTWELL ALSO SEE OF YOUR FAVORITE SUPERSTARS INCLUDING: WWE WORLD HEAVYWEIGHT CHAMPION SETH ‘FREAKIN’ ROLLINS “THE AMERICAN NIGHTMARE” CODY RHODES & “MAIN EVENT JEY USO” …and many more! Tickets start at $20 & are available at www.ticketmaster.com
END:VEVENT
END:VCALENDAR