BEGIN:VCALENDAR
VERSION:2.0
PRODID:-//hacksw/handcal//NONSGML v1.0//EN
BEGIN:VEVENT
DTSTAMP:20180320T234500Z
DTSTART:20180320T234500Z
DTEND:20180321T014500Z

SUMMARY:WWE SMACKDOWN
DESCRIPTION:Triple Threat Match for the WWE ChampionshipAJ Styles VS Kevin Owens & Sami Zayn! Plus many more.
END:VEVENT
END:VCALENDAR